BEGIN:VCALENDAR
VERSION:2.0
PRODID:-//https://www.petersgateinfantschool.co.uk///NONSGML kigkonsult.se iCalcreator 2.10.15//
METHOD:PUBLISH
BEGIN:VEVENT
UID:20260424T073622UTC-0905w2isuL@https://www.petersgateinfantschool.co.uk/
DTSTAMP:20260424T073622Z
DESCRIPTION: https://www.petersgateinfantschool.co.uk/school-calendar/event
 /876-half-term-school-closed
DTSTART:20250526T000000Z
DTEND:20250530T000000Z
LOCATION:Petersgate Infant School (Green Ln\, Clanfield\, Waterlooville PO8
  0JU\, UK)
SUMMARY:Half Term - school closed
URL:https://www.petersgateinfantschool.co.uk/school-calendar/event/876-half
 -term-school-closed
END:VEVENT
END:VCALENDAR
