BEGIN:VCALENDAR
VERSION:2.0
PRODID:-//https://www.petersgateinfantschool.co.uk///NONSGML kigkonsult.se iCalcreator 2.10.15//
METHOD:PUBLISH
BEGIN:VEVENT
UID:20260424T073639UTC-2765NCuvLU@https://www.petersgateinfantschool.co.uk/
DTSTAMP:20260424T073639Z
DESCRIPTION: https://www.petersgateinfantschool.co.uk/school-calendar/event
 /924-parent-forum-transition
DTSTART:20250612T140000Z
DTEND:20250612T150000Z
LOCATION:Petersgate Infant School (Green Ln\, Clanfield\, Waterlooville PO8
  0JU\, UK)
SUMMARY:Parent Forum  (transition)
URL:https://www.petersgateinfantschool.co.uk/school-calendar/event/924-pare
 nt-forum-transition
END:VEVENT
END:VCALENDAR
