BEGIN:VCALENDAR
VERSION:2.0
PRODID:-//https://www.petersgateinfantschool.co.uk///NONSGML kigkonsult.se iCalcreator 2.10.15//
METHOD:PUBLISH
BEGIN:VEVENT
UID:20260424T073546UTC-5714nWjuvZ@https://www.petersgateinfantschool.co.uk/
DTSTAMP:20260424T073546Z
DESCRIPTION:	 https://www.petersgateinfantschool.co.uk/school-calendar/even
 t/941-stay-play-session-2025-new-admissions-all-children
DTSTART:20250610T140000Z
DTEND:20250610T144500Z
LOCATION:Petersgate Infant School (Green Ln\, Clanfield\, Waterlooville PO8
  0JU\, UK)
SUMMARY:Stay & Play session 2025 new admissions (ALL children)
URL:https://www.petersgateinfantschool.co.uk/school-calendar/event/941-stay
 -play-session-2025-new-admissions-all-children
END:VEVENT
END:VCALENDAR
