BEGIN:VCALENDAR
VERSION:2.0
PRODID:-//https://www.petersgateinfantschool.co.uk///NONSGML kigkonsult.se iCalcreator 2.10.15//
METHOD:PUBLISH
BEGIN:VEVENT
UID:20260424T073622UTC-0825o5eLv7@https://www.petersgateinfantschool.co.uk/
DTSTAMP:20260424T073622Z
DESCRIPTION: https://www.petersgateinfantschool.co.uk/school-calendar/event
 /938-grand-event-for-parents-of-admissions-2025-child-s-surname-h-w
DTSTART:20250604T180000Z
DTEND:20250604T190000Z
LOCATION:Petersgate Infant School (Green Ln\, Clanfield\, Waterlooville PO8
  0JU\, UK)
SUMMARY:Grand Event for parents of admissions 2025 (child's surname H-W)
URL:https://www.petersgateinfantschool.co.uk/school-calendar/event/938-gran
 d-event-for-parents-of-admissions-2025-child-s-surname-h-w
END:VEVENT
END:VCALENDAR
