BEGIN:VCALENDAR
VERSION:2.0
PRODID:-//https://www.petersgateinfantschool.co.uk///NONSGML kigkonsult.se iCalcreator 2.10.15//
METHOD:PUBLISH
BEGIN:VEVENT
UID:20260424T073638UTC-6823jueR79@https://www.petersgateinfantschool.co.uk/
DTSTAMP:20260424T073638Z
DESCRIPTION: https://www.petersgateinfantschool.co.uk/school-calendar/event
 /912-school-opens-at-08-40
DTSTART;VALUE=DATE:20250603
LOCATION:Petersgate Infant School (Green Ln\, Clanfield\, Waterlooville PO8
  0JU\, UK)
SUMMARY:School opens at 08.40
URL:https://www.petersgateinfantschool.co.uk/school-calendar/event/912-scho
 ol-opens-at-08-40
END:VEVENT
BEGIN:VEVENT
UID:20260424T073638UTC-68244kkr8H@https://www.petersgateinfantschool.co.uk/
DTSTAMP:20260424T073638Z
DESCRIPTION: https://www.petersgateinfantschool.co.uk/school-calendar/event
 /937-grand-event-for-parents-of-admissions-2025-child-s-surname-a-g
DTSTART:20250603T180000Z
DTEND:20250603T190000Z
LOCATION:Petersgate Infant School (Green Ln\, Clanfield\, Waterlooville PO8
  0JU\, UK)
SUMMARY:Grand Event for parents of admissions 2025 (child's surname A-G)
URL:https://www.petersgateinfantschool.co.uk/school-calendar/event/937-gran
 d-event-for-parents-of-admissions-2025-child-s-surname-a-g
END:VEVENT
END:VCALENDAR
