BEGIN:VCALENDAR
VERSION:2.0
PRODID:-//https://www.petersgateinfantschool.co.uk///NONSGML kigkonsult.se iCalcreator 2.10.15//
METHOD:PUBLISH
BEGIN:VEVENT
UID:20260424T092049UTC-2715igekcG@https://www.petersgateinfantschool.co.uk/
DTSTAMP:20260424T092049Z
DESCRIPTION: https://www.petersgateinfantschool.co.uk/school-calendar/event
 /864-school-nursing-team-early-years-summer-vision-height-weight
DTSTART;VALUE=DATE:20250521
LOCATION:Petersgate Infant School (Green Ln\, Clanfield\, Waterlooville PO8
  0JU\, UK)
SUMMARY:School Nursing Team - Early Years Summer - Vision/Height & Weight
URL:https://www.petersgateinfantschool.co.uk/school-calendar/event/864-scho
 ol-nursing-team-early-years-summer-vision-height-weight
END:VEVENT
BEGIN:VEVENT
UID:20260424T092049UTC-2717drDLBg@https://www.petersgateinfantschool.co.uk/
DTSTAMP:20260424T092049Z
DESCRIPTION: https://www.petersgateinfantschool.co.uk/school-calendar/event
 /921-walk-to-school-week
DTSTART:20250519T084000Z
DTEND:20250523T152000Z
LOCATION:Petersgate Infant School (Green Ln\, Clanfield\, Waterlooville PO8
  0JU\, UK)
SUMMARY:Walk to School Week
URL:https://www.petersgateinfantschool.co.uk/school-calendar/event/921-walk
 -to-school-week
END:VEVENT
BEGIN:VEVENT
UID:20260424T092049UTC-2718fuzGKp@https://www.petersgateinfantschool.co.uk/
DTSTAMP:20260424T092049Z
DESCRIPTION: https://www.petersgateinfantschool.co.uk/school-calendar/event
 /964-squirrel-class-assembly-14-30
DTSTART:20250521T143000Z
DTEND:20250521T150000Z
LOCATION:Petersgate Infant School (Green Ln\, Clanfield\, Waterlooville PO8
  0JU\, UK)
SUMMARY:Squirrel class Assembly 14:30
URL:https://www.petersgateinfantschool.co.uk/school-calendar/event/964-squi
 rrel-class-assembly-14-30
END:VEVENT
END:VCALENDAR
