BEGIN:VCALENDAR
VERSION:2.0
PRODID:-//https://www.petersgateinfantschool.co.uk///NONSGML kigkonsult.se iCalcreator 2.10.15//
METHOD:PUBLISH
BEGIN:VEVENT
UID:20260424T092130UTC-2448fGN6C6@https://www.petersgateinfantschool.co.uk/
DTSTAMP:20260424T092130Z
DESCRIPTION: https://www.petersgateinfantschool.co.uk/school-calendar/event
 /921-walk-to-school-week
DTSTART:20250519T084000Z
DTEND:20250523T152000Z
LOCATION:Petersgate Infant School (Green Ln\, Clanfield\, Waterlooville PO8
  0JU\, UK)
SUMMARY:Walk to School Week
URL:https://www.petersgateinfantschool.co.uk/school-calendar/event/921-walk
 -to-school-week
END:VEVENT
END:VCALENDAR
