BEGIN:VCALENDAR
VERSION:2.0
PRODID:-//https://www.petersgateinfantschool.co.uk///NONSGML kigkonsult.se iCalcreator 2.10.15//
METHOD:PUBLISH
BEGIN:VEVENT
UID:20260424T110313UTC-69644tT3x2@https://www.petersgateinfantschool.co.uk/
DTSTAMP:20260424T110313Z
DESCRIPTION: https://www.petersgateinfantschool.co.uk/school-calendar/event
 /726-bank-holiday-monday-school-closed
DTSTART;VALUE=DATE:20250505
LOCATION:Petersgate Infant School (Green Ln\, Clanfield\, Waterlooville PO8
  0JU\, UK)
SUMMARY:Bank Holiday Monday - school closed
URL:https://www.petersgateinfantschool.co.uk/school-calendar/event/726-bank
 -holiday-monday-school-closed
END:VEVENT
END:VCALENDAR
