BEGIN:VCALENDAR
VERSION:2.0
PRODID:-//https://www.petersgateinfantschool.co.uk///NONSGML kigkonsult.se iCalcreator 2.10.15//
METHOD:PUBLISH
BEGIN:VEVENT
UID:20260423T164306UTC-0538vdwUx2@https://www.petersgateinfantschool.co.uk/
DTSTAMP:20260423T164306Z
DESCRIPTION: https://www.petersgateinfantschool.co.uk/school-calendar/event
 /910-school-opens-at-08-40
DTSTART;VALUE=DATE:20260223
LOCATION:Petersgate Infant School (Green Ln\, Clanfield\, Waterlooville PO8
  0JU\, UK)
SUMMARY:School opens at 08.40
URL:https://www.petersgateinfantschool.co.uk/school-calendar/event/910-scho
 ol-opens-at-08-40
END:VEVENT
BEGIN:VEVENT
UID:20260423T164306UTC-0540NnEPUT@https://www.petersgateinfantschool.co.uk/
DTSTAMP:20260423T164306Z
DESCRIPTION: https://www.petersgateinfantschool.co.uk/school-calendar/event
 /1038-year-1-learn-alongside-your-child-event-14-00-15-00-details-to-follo
 w
DTSTART:20260224T140000Z
DTEND:20260224T150000Z
LOCATION:Petersgate Infant School (Green Ln\, Clanfield\, Waterlooville PO8
  0JU\, UK)
SUMMARY:Year 1 - Learn alongside your child event 14:00-15:00 *details to f
 ollow*
URL:https://www.petersgateinfantschool.co.uk/school-calendar/event/1038-yea
 r-1-learn-alongside-your-child-event-14-00-15-00-details-to-follow
END:VEVENT
BEGIN:VEVENT
UID:20260423T164306UTC-0541GcGts0@https://www.petersgateinfantschool.co.uk/
DTSTAMP:20260423T164306Z
DESCRIPTION: https://www.petersgateinfantschool.co.uk/school-calendar/event
 /1039-parent-forum-inclusive-practice-ordinarily-available-provision
DTSTART:20260224T144000Z
DTEND:20260224T151000Z
LOCATION:Petersgate Infant School (Green Ln\, Clanfield\, Waterlooville PO8
  0JU\, UK)
SUMMARY:Parent Forum - Inclusive practice/Ordinarily Available Provision
URL:https://www.petersgateinfantschool.co.uk/school-calendar/event/1039-par
 ent-forum-inclusive-practice-ordinarily-available-provision
END:VEVENT
BEGIN:VEVENT
UID:20260423T164306UTC-05432vonzX@https://www.petersgateinfantschool.co.uk/
DTSTAMP:20260423T164306Z
DESCRIPTION: https://www.petersgateinfantschool.co.uk/school-calendar/event
 /1040-early-years-learn-alongside-your-child-event-14-00-15-00-details-to-
 follow
DTSTART:20260225T140000Z
DTEND:20260225T150000Z
LOCATION:Petersgate Infant School (Green Ln\, Clanfield\, Waterlooville PO8
  0JU\, UK)
SUMMARY:Early Years - Learn alongside your child event 14:00-15:00 *details
  to follow*
URL:https://www.petersgateinfantschool.co.uk/school-calendar/event/1040-ear
 ly-years-learn-alongside-your-child-event-14-00-15-00-details-to-follow
END:VEVENT
BEGIN:VEVENT
UID:20260423T164306UTC-0544fGDEml@https://www.petersgateinfantschool.co.uk/
DTSTAMP:20260423T164306Z
DESCRIPTION: https://www.petersgateinfantschool.co.uk/school-calendar/event
 /1045-women-s-history-month-theme-moving-forward-together-women-educating-
 and-inspiring-a-generation
DTSTART:20260301T084000Z
DTEND:20260331T152000Z
LOCATION:Petersgate Infant School (Green Ln\, Clanfield\, Waterlooville PO8
  0JU\, UK)
SUMMARY:Women’s history month - theme Moving Forward Together – Women Educa
 ting and Inspiring a Generation
URL:https://www.petersgateinfantschool.co.uk/school-calendar/event/1045-wom
 en-s-history-month-theme-moving-forward-together-women-educating-and-inspi
 ring-a-generation
END:VEVENT
BEGIN:VEVENT
UID:20260423T164306UTC-0546VxxdJp@https://www.petersgateinfantschool.co.uk/
DTSTAMP:20260423T164306Z
DESCRIPTION: https://www.petersgateinfantschool.co.uk/school-calendar/event
 /1061-year-2-trip-to-fort-nelson
DTSTART;VALUE=DATE:20260226
LOCATION:Fort Nelson (Fort Nelson)
SUMMARY:Year 2 Trip to Fort Nelson
URL:https://www.petersgateinfantschool.co.uk/school-calendar/event/1061-yea
 r-2-trip-to-fort-nelson
END:VEVENT
END:VCALENDAR
