BEGIN:VCALENDAR
VERSION:2.0
PRODID:-//https://www.petersgateinfantschool.co.uk///NONSGML kigkonsult.se iCalcreator 2.10.15//
METHOD:PUBLISH
BEGIN:VEVENT
UID:20260419T193659UTC-74391GShGF@https://www.petersgateinfantschool.co.uk/
DTSTAMP:20260419T193659Z
DESCRIPTION: https://www.petersgateinfantschool.co.uk/school-calendar/event
 /994-children-in-need-donation-for-non-uniform-and-or-pudsey-attire-if-you
 -have-any-but-not-essential
DTSTART;VALUE=DATE:20251114
LOCATION:Petersgate Infant School (Green Ln\, Clanfield\, Waterlooville PO8
  0JU\, UK)
SUMMARY:Children In Need - donation for non-uniform and/or Pudsey attire (i
 f you have any but not essential)
URL:https://www.petersgateinfantschool.co.uk/school-calendar/event/994-chil
 dren-in-need-donation-for-non-uniform-and-or-pudsey-attire-if-you-have-any
 -but-not-essential
END:VEVENT
END:VCALENDAR
