BEGIN:VCALENDAR
VERSION:2.0
PRODID:-//https://www.petersgateinfantschool.co.uk///NONSGML kigkonsult.se iCalcreator 2.10.15//
METHOD:PUBLISH
BEGIN:VEVENT
UID:20260419T192930UTC-7046VZpXxt@https://www.petersgateinfantschool.co.uk/
DTSTAMP:20260419T192930Z
DESCRIPTION: https://www.petersgateinfantschool.co.uk/school-calendar/event
 /985-parent-forum-reading
DTSTART:20251021T140000Z
DTEND:20251021T150000Z
LOCATION:Petersgate Infant School (Green Ln\, Clanfield\, Waterlooville PO8
  0JU\, UK)
SUMMARY:Parent Forum - reading
URL:https://www.petersgateinfantschool.co.uk/school-calendar/event/985-pare
 nt-forum-reading
END:VEVENT
END:VCALENDAR
