BEGIN:VCALENDAR
VERSION:2.0
PRODID:-//https://www.petersgateinfantschool.co.uk///NONSGML kigkonsult.se iCalcreator 2.10.15//
METHOD:PUBLISH
BEGIN:VEVENT
UID:20260424T054937UTC-2554VIaEEk@https://www.petersgateinfantschool.co.uk/
DTSTAMP:20260424T054937Z
DESCRIPTION: https://www.petersgateinfantschool.co.uk/school-calendar/event
 /965-year-2-trip-to-marwell
DTSTART;VALUE=DATE:20250710
LOCATION:Petersgate Infant School (Green Ln\, Clanfield\, Waterlooville PO8
  0JU\, UK)
SUMMARY:Year 2 Trip to Marwell*
URL:https://www.petersgateinfantschool.co.uk/school-calendar/event/965-year
 -2-trip-to-marwell
END:VEVENT
END:VCALENDAR
