BEGIN:VCALENDAR
VERSION:2.0
PRODID:-//https://www.petersgateinfantschool.co.uk///NONSGML kigkonsult.se iCalcreator 2.10.15//
METHOD:PUBLISH
BEGIN:VEVENT
UID:20260421T085802UTC-5421s1w0wF@https://www.petersgateinfantschool.co.uk/
DTSTAMP:20260421T085802Z
DESCRIPTION: https://www.petersgateinfantschool.co.uk/school-calendar/event
 /962-pops-non-uniform-day-donation-bottle-tombola
DTSTART;VALUE=DATE:20250627
LOCATION:Petersgate Infant School (Green Ln\, Clanfield\, Waterlooville PO8
  0JU\, UK)
SUMMARY:PoPS non uniform day - donation bottle tombola*
URL:https://www.petersgateinfantschool.co.uk/school-calendar/event/962-pops
 -non-uniform-day-donation-bottle-tombola
END:VEVENT
END:VCALENDAR
