BEGIN:VCALENDAR
VERSION:2.0
PRODID:-//https://www.petersgateinfantschool.co.uk///NONSGML kigkonsult.se iCalcreator 2.10.15//
METHOD:PUBLISH
BEGIN:VEVENT
UID:20260419T130220UTC-6070VN8U17@https://www.petersgateinfantschool.co.uk/
DTSTAMP:20260419T130220Z
DESCRIPTION: https://www.petersgateinfantschool.co.uk/school-calendar/event
 /961-crazy-hair-day-non-uniform-pops-fundraiser
DTSTART;VALUE=DATE:20250613
LOCATION:Petersgate Infant School (Green Ln\, Clanfield\, Waterlooville PO8
  0JU\, UK)
SUMMARY:Crazy Hair day & non uniform (PoPS fundraiser)
URL:https://www.petersgateinfantschool.co.uk/school-calendar/event/961-craz
 y-hair-day-non-uniform-pops-fundraiser
END:VEVENT
END:VCALENDAR
