BEGIN:VCALENDAR
VERSION:2.0
PRODID:-//https://www.petersgateinfantschool.co.uk///NONSGML kigkonsult.se iCalcreator 2.10.15//
METHOD:PUBLISH
BEGIN:VEVENT
UID:20260424T055443UTC-19509XxfnU@https://www.petersgateinfantschool.co.uk/
DTSTAMP:20260424T055443Z
DESCRIPTION: https://www.petersgateinfantschool.co.uk/school-calendar/event
 /948-transition-2025-new-admissions-child-s-surname-r-w
DTSTART:20250704T100000Z
DTEND:20250704T110000Z
LOCATION:Petersgate Infant School (Green Ln\, Clanfield\, Waterlooville PO8
  0JU\, UK)
SUMMARY:Transition 2025 new admissions (child's surname R-W)
URL:https://www.petersgateinfantschool.co.uk/school-calendar/event/948-tran
 sition-2025-new-admissions-child-s-surname-r-w
END:VEVENT
END:VCALENDAR
