BEGIN:VCALENDAR
VERSION:2.0
PRODID:-//https://www.petersgateinfantschool.co.uk///NONSGML kigkonsult.se iCalcreator 2.10.15//
METHOD:PUBLISH
BEGIN:VEVENT
UID:20260424T055307UTC-4047xgAaBR@https://www.petersgateinfantschool.co.uk/
DTSTAMP:20260424T055307Z
DESCRIPTION: https://www.petersgateinfantschool.co.uk/school-calendar/event
 /947-transition-2025-new-admissions-child-s-surname-k-p
DTSTART:20250703T100000Z
DTEND:20250703T110000Z
LOCATION:Petersgate Infant School (Green Ln\, Clanfield\, Waterlooville PO8
  0JU\, UK)
SUMMARY:Transition 2025 new admissions (child's surname K-P)
URL:https://www.petersgateinfantschool.co.uk/school-calendar/event/947-tran
 sition-2025-new-admissions-child-s-surname-k-p
END:VEVENT
END:VCALENDAR
