BEGIN:VCALENDAR
VERSION:2.0
PRODID:-//https://www.petersgateinfantschool.co.uk///NONSGML kigkonsult.se iCalcreator 2.10.15//
METHOD:PUBLISH
BEGIN:VEVENT
UID:20260424T054835UTC-4787J9bSB7@https://www.petersgateinfantschool.co.uk/
DTSTAMP:20260424T054835Z
DESCRIPTION: https://www.petersgateinfantschool.co.uk/school-calendar/event
 /946-transition-2025-new-admissions-child-s-surname-g-j
DTSTART:20250702T100000Z
DTEND:20250702T110000Z
LOCATION:Petersgate Infant School (Green Ln\, Clanfield\, Waterlooville PO8
  0JU\, UK)
SUMMARY:Transition 2025 new admissions (child's surname G-J)
URL:https://www.petersgateinfantschool.co.uk/school-calendar/event/946-tran
 sition-2025-new-admissions-child-s-surname-g-j
END:VEVENT
END:VCALENDAR
