BEGIN:VCALENDAR
VERSION:2.0
PRODID:-//https://www.petersgateinfantschool.co.uk///NONSGML kigkonsult.se iCalcreator 2.10.15//
METHOD:PUBLISH
BEGIN:VEVENT
UID:20260424T073725UTC-1741jcGirM@https://www.petersgateinfantschool.co.uk/
DTSTAMP:20260424T073725Z
DESCRIPTION: https://www.petersgateinfantschool.co.uk/school-calendar/event
 /943-stay-play-session-2025-new-admissions-all-children
DTSTART:20250623T140000Z
DTEND:20250623T144500Z
LOCATION:Petersgate Infant School (Green Ln\, Clanfield\, Waterlooville PO8
  0JU\, UK)
SUMMARY:Stay & Play session 2025 new admissions (ALL children)
URL:https://www.petersgateinfantschool.co.uk/school-calendar/event/943-stay
 -play-session-2025-new-admissions-all-children
END:VEVENT
END:VCALENDAR
