BEGIN:VCALENDAR
VERSION:2.0
PRODID:-//https://www.petersgateinfantschool.co.uk///NONSGML kigkonsult.se iCalcreator 2.10.15//
METHOD:PUBLISH
BEGIN:VEVENT
UID:20260424T092215UTC-8474TRxuBu@https://www.petersgateinfantschool.co.uk/
DTSTAMP:20260424T092215Z
DESCRIPTION: https://www.petersgateinfantschool.co.uk/school-calendar/event
 /936-ve-day-non-uniform-wear-red-white-blue
DTSTART;VALUE=DATE:20250508
LOCATION:Petersgate Infant School (Green Ln\, Clanfield\, Waterlooville PO8
  0JU\, UK)
SUMMARY:VE Day - non uniform wear red\, white & blue
URL:https://www.petersgateinfantschool.co.uk/school-calendar/event/936-ve-d
 ay-non-uniform-wear-red-white-blue
END:VEVENT
END:VCALENDAR
