BEGIN:VCALENDAR
VERSION:2.0
PRODID:-//https://www.petersgateinfantschool.co.uk///NONSGML kigkonsult.se iCalcreator 2.10.15//
METHOD:PUBLISH
BEGIN:VEVENT
UID:20260424T054932UTC-04117kIZTj@https://www.petersgateinfantschool.co.uk/
DTSTAMP:20260424T054932Z
DESCRIPTION: https://www.petersgateinfantschool.co.uk/school-calendar/event
 /929-year-2-transition-visit-to-cjs-times-tbc-details-to-follow
DTSTART;VALUE=DATE:20250702
LOCATION:Petersgate Infant School (Green Ln\, Clanfield\, Waterlooville PO8
  0JU\, UK)
SUMMARY:Year 2 - transition visit to CJS **times tbc & details to follow**
URL:https://www.petersgateinfantschool.co.uk/school-calendar/event/929-year
 -2-transition-visit-to-cjs-times-tbc-details-to-follow
END:VEVENT
END:VCALENDAR
