BEGIN:VCALENDAR
VERSION:2.0
PRODID:-//https://www.petersgateinfantschool.co.uk///NONSGML kigkonsult.se iCalcreator 2.10.15//
METHOD:PUBLISH
BEGIN:VEVENT
UID:20260424T073112UTC-0174pEADVP@https://www.petersgateinfantschool.co.uk/
DTSTAMP:20260424T073112Z
DESCRIPTION: https://www.petersgateinfantschool.co.uk/school-calendar/event
 /923-dormouse-class-assembly
DTSTART:20250611T143000Z
DTEND:20250611T153000Z
LOCATION:Petersgate Infant School (Green Ln\, Clanfield\, Waterlooville PO8
  0JU\, UK)
SUMMARY:Dormouse class assembly
URL:https://www.petersgateinfantschool.co.uk/school-calendar/event/923-dorm
 ouse-class-assembly
END:VEVENT
END:VCALENDAR
