BEGIN:VCALENDAR
VERSION:2.0
PRODID:-//https://www.petersgateinfantschool.co.uk///NONSGML kigkonsult.se iCalcreator 2.10.15//
METHOD:PUBLISH
BEGIN:VEVENT
UID:20260424T073702UTC-9475eaVfct@https://www.petersgateinfantschool.co.uk/
DTSTAMP:20260424T073702Z
DESCRIPTION: https://www.petersgateinfantschool.co.uk/school-calendar/event
 /922-cancelled-sports-day-morning-only
DTSTART:20250606T090000Z
DTEND:20250606T120000Z
LOCATION:Petersgate Infant School (Green Ln\, Clanfield\, Waterlooville PO8
  0JU\, UK)
SUMMARY:CANCELLED - Sports Day (morning only) 
URL:https://www.petersgateinfantschool.co.uk/school-calendar/event/922-canc
 elled-sports-day-morning-only
END:VEVENT
END:VCALENDAR
