BEGIN:VCALENDAR
VERSION:2.0
PRODID:-//https://www.petersgateinfantschool.co.uk///NONSGML kigkonsult.se iCalcreator 2.10.15//
METHOD:PUBLISH
BEGIN:VEVENT
UID:20260424T091549UTC-4778ZWvit9@https://www.petersgateinfantschool.co.uk/
DTSTAMP:20260424T091549Z
DESCRIPTION: https://www.petersgateinfantschool.co.uk/school-calendar/event
 /920-hedgehog-class-assembly
DTSTART:20250513T143000Z
DTEND:20250513T150000Z
LOCATION:Petersgate Infant School (Green Ln\, Clanfield\, Waterlooville PO8
  0JU\, UK)
SUMMARY:Hedgehog class assembly
URL:https://www.petersgateinfantschool.co.uk/school-calendar/event/920-hedg
 ehog-class-assembly
END:VEVENT
END:VCALENDAR
