BEGIN:VCALENDAR
VERSION:2.0
PRODID:-//https://www.petersgateinfantschool.co.uk///NONSGML kigkonsult.se iCalcreator 2.10.15//
METHOD:PUBLISH
BEGIN:VEVENT
UID:20260424T110314UTC-5638DDVChU@https://www.petersgateinfantschool.co.uk/
DTSTAMP:20260424T110314Z
DESCRIPTION: https://www.petersgateinfantschool.co.uk/school-calendar/event
 /919-parent-forum-curriculum-offer
DTSTART:20250506T140000Z
DTEND:20250506T150000Z
LOCATION:Petersgate Infant School (Green Ln\, Clanfield\, Waterlooville PO8
  0JU\, UK)
SUMMARY:Parent Forum (curriculum offer)
URL:https://www.petersgateinfantschool.co.uk/school-calendar/event/919-pare
 nt-forum-curriculum-offer
END:VEVENT
END:VCALENDAR
