BEGIN:VCALENDAR
VERSION:2.0
PRODID:-//https://www.petersgateinfantschool.co.uk///NONSGML kigkonsult.se iCalcreator 2.10.15//
METHOD:PUBLISH
BEGIN:VEVENT
UID:20260424T073703UTC-0383vRGuSl@https://www.petersgateinfantschool.co.uk/
DTSTAMP:20260424T073703Z
DESCRIPTION: https://www.petersgateinfantschool.co.uk/school-calendar/event
 /918-early-years-trip-to-alice-holt
DTSTART;VALUE=DATE:20250625
LOCATION:Alice Holt ()
SUMMARY:Early Years - Trip to Alice Holt
URL:https://www.petersgateinfantschool.co.uk/school-calendar/event/918-earl
 y-years-trip-to-alice-holt
END:VEVENT
END:VCALENDAR
