BEGIN:VCALENDAR
VERSION:2.0
PRODID:-//https://www.petersgateinfantschool.co.uk///NONSGML kigkonsult.se iCalcreator 2.10.15//
METHOD:PUBLISH
BEGIN:VEVENT
UID:20260423T181521UTC-3342u5niBK@https://www.petersgateinfantschool.co.uk/
DTSTAMP:20260423T181521Z
DESCRIPTION: https://www.petersgateinfantschool.co.uk/school-calendar/event
 /891-scholastic-book-fair
DTSTART:20260316T151000Z
DTEND:20260316T160000Z
LOCATION:Petersgate Infant School (Green Ln\, Clanfield\, Waterlooville PO8
  0JU\, UK)
SUMMARY:Scholastic Book Fair
URL:https://www.petersgateinfantschool.co.uk/school-calendar/event/891-scho
 lastic-book-fair
END:VEVENT
END:VCALENDAR
