BEGIN:VCALENDAR
VERSION:2.0
PRODID:-//https://www.petersgateinfantschool.co.uk///NONSGML kigkonsult.se iCalcreator 2.10.15//
METHOD:PUBLISH
BEGIN:VEVENT
UID:20260421T084510UTC-5701Bzcjfc@https://www.petersgateinfantschool.co.uk/
DTSTAMP:20260421T084510Z
DESCRIPTION: https://www.petersgateinfantschool.co.uk/school-calendar/event
 /882-pops-sponsored-mile-during-school
DTSTART;VALUE=DATE:20250516
LOCATION:Petersgate Infant School (Green Ln\, Clanfield\, Waterlooville PO8
  0JU\, UK)
SUMMARY:PoPS Sponsored Mile (during school)**
URL:https://www.petersgateinfantschool.co.uk/school-calendar/event/882-pops
 -sponsored-mile-during-school
END:VEVENT
END:VCALENDAR
