BEGIN:VCALENDAR
VERSION:2.0
PRODID:-//https://www.petersgateinfantschool.co.uk///NONSGML kigkonsult.se iCalcreator 2.10.15//
METHOD:PUBLISH
BEGIN:VEVENT
UID:20260421T085356UTC-8549JU6LOZ@https://www.petersgateinfantschool.co.uk/
DTSTAMP:20260421T085356Z
DESCRIPTION: https://www.petersgateinfantschool.co.uk/school-calendar/event
 /880-pops-quiz-night-adults-only
DTSTART:20250328T190000Z
DTEND:20250328T220000Z
LOCATION:Petersgate Infant School (Green Ln\, Clanfield\, Waterlooville PO8
  0JU\, UK)
SUMMARY:PoPS - Quiz Night (adults only)
URL:https://www.petersgateinfantschool.co.uk/school-calendar/event/880-pops
 -quiz-night-adults-only
END:VEVENT
END:VCALENDAR
