BEGIN:VCALENDAR
VERSION:2.0
PRODID:-//https://www.petersgateinfantschool.co.uk///NONSGML kigkonsult.se iCalcreator 2.10.15//
METHOD:PUBLISH
BEGIN:VEVENT
UID:20260421T085212UTC-1175a2V2UW@https://www.petersgateinfantschool.co.uk/
DTSTAMP:20260421T085212Z
DESCRIPTION: https://www.petersgateinfantschool.co.uk/school-calendar/event
 /875-pops-summer-festival
DTSTART:20250706T110000Z
DTEND:20250706T150000Z
LOCATION:Petersgate Infant School (Green Ln\, Clanfield\, Waterlooville PO8
  0JU\, UK)
SUMMARY:PoPS Summer Festival
URL:https://www.petersgateinfantschool.co.uk/school-calendar/event/875-pops
 -summer-festival
END:VEVENT
END:VCALENDAR
