BEGIN:VCALENDAR
VERSION:2.0
PRODID:-//https://www.petersgateinfantschool.co.uk///NONSGML kigkonsult.se iCalcreator 2.10.15//
METHOD:PUBLISH
BEGIN:VEVENT
UID:20260421T085612UTC-7013tUiO8V@https://www.petersgateinfantschool.co.uk/
DTSTAMP:20260421T085612Z
DESCRIPTION: https://www.petersgateinfantschool.co.uk/school-calendar/event
 /873-pops-easter-fayre-in-school-event
DTSTART:20250404T130000Z
DTEND:20250404T150000Z
LOCATION:Petersgate Infant School (Green Ln\, Clanfield\, Waterlooville PO8
  0JU\, UK)
SUMMARY:PoPS Easter Fayre (in school event)
URL:https://www.petersgateinfantschool.co.uk/school-calendar/event/873-pops
 -easter-fayre-in-school-event
END:VEVENT
END:VCALENDAR
