BEGIN:VCALENDAR
VERSION:2.0
PRODID:-//https://www.petersgateinfantschool.co.uk///NONSGML kigkonsult.se iCalcreator 2.10.15//
METHOD:PUBLISH
BEGIN:VEVENT
UID:20260424T092222UTC-8778opjuDN@https://www.petersgateinfantschool.co.uk/
DTSTAMP:20260424T092222Z
DESCRIPTION: https://www.petersgateinfantschool.co.uk/school-calendar/event
 /842-year-1-trip-to-butser-ancient-farm
DTSTART;VALUE=DATE:20250507
LOCATION:Butser Ancient Farm ()
SUMMARY:Year 1 - Trip to Butser Ancient Farm
URL:https://www.petersgateinfantschool.co.uk/school-calendar/event/842-year
 -1-trip-to-butser-ancient-farm
END:VEVENT
END:VCALENDAR
