BEGIN:VCALENDAR
VERSION:2.0
PRODID:-//https://www.petersgateinfantschool.co.uk///NONSGML kigkonsult.se iCalcreator 2.10.15//
METHOD:PUBLISH
BEGIN:VEVENT
UID:20260424T092223UTC-0933zHHf5i@https://www.petersgateinfantschool.co.uk/
DTSTAMP:20260424T092223Z
DESCRIPTION: https://www.petersgateinfantschool.co.uk/school-calendar/event
 /798-celebrate-school-lunches-census-day-change-of-menu
DTSTART;VALUE=DATE:20250515
LOCATION:Petersgate Infant School (Green Ln\, Clanfield\, Waterlooville PO8
  0JU\, UK)
SUMMARY:Celebrate School Lunches (Census Day) - change of menu
URL:https://www.petersgateinfantschool.co.uk/school-calendar/event/798-cele
 brate-school-lunches-census-day-change-of-menu
END:VEVENT
END:VCALENDAR
