BEGIN:VCALENDAR
VERSION:2.0
PRODID:-//https://www.petersgateinfantschool.co.uk///NONSGML kigkonsult.se iCalcreator 2.10.15//
METHOD:PUBLISH
BEGIN:VEVENT
UID:20260421T003128UTC-8018vHberK@https://www.petersgateinfantschool.co.uk/
DTSTAMP:20260421T003128Z
DESCRIPTION: https://www.petersgateinfantschool.co.uk/school-calendar/event
 /343-1pm-1-10pm-finish-last-day-of-term
DTSTART;VALUE=DATE:20220720
LOCATION:Petersgate Infant School (Green Ln\, Clanfield\, Waterlooville PO8
  0JU\, UK)
SUMMARY:1pm -1.10pm Finish Last Day of Term 
URL:https://www.petersgateinfantschool.co.uk/school-calendar/event/343-1pm-
 1-10pm-finish-last-day-of-term
END:VEVENT
END:VCALENDAR
