BEGIN:VCALENDAR
VERSION:2.0
PRODID:-//https://www.petersgateinfantschool.co.uk///NONSGML kigkonsult.se iCalcreator 2.10.15//
METHOD:PUBLISH
BEGIN:VEVENT
UID:20260423T182259UTC-3242oeXbKu@https://www.petersgateinfantschool.co.uk/
DTSTAMP:20260423T182259Z
DESCRIPTION: https://www.petersgateinfantschool.co.uk/school-calendar/event
 /1071-early-years-cohort-2026-stay-play
DTSTART:20260609T140000Z
DTEND:20260609T144500Z
LOCATION:Petersgate Infant School (Green Ln\, Clanfield\, Waterlooville PO8
  0JU\, UK)
SUMMARY:Early Years (Cohort 2026) - Stay & Play
URL:https://www.petersgateinfantschool.co.uk/school-calendar/event/1071-ear
 ly-years-cohort-2026-stay-play
END:VEVENT
END:VCALENDAR
