BEGIN:VCALENDAR
VERSION:2.0
PRODID:-//https://www.petersgateinfantschool.co.uk///NONSGML kigkonsult.se iCalcreator 2.10.15//
METHOD:PUBLISH
BEGIN:VEVENT
UID:20260423T182316UTC-7843x4zjFJ@https://www.petersgateinfantschool.co.uk/
DTSTAMP:20260423T182316Z
DESCRIPTION: https://www.petersgateinfantschool.co.uk/school-calendar/event
 /1069-early-years-cohort-2026-ready-steady-school-storytime
DTSTART:20260605T140000Z
DTEND:20260605T143000Z
LOCATION:Petersgate Infant School (Green Ln\, Clanfield\, Waterlooville PO8
  0JU\, UK)
SUMMARY:Early Years (Cohort 2026) - Ready Steady School - Storytime
URL:https://www.petersgateinfantschool.co.uk/school-calendar/event/1069-ear
 ly-years-cohort-2026-ready-steady-school-storytime
END:VEVENT
END:VCALENDAR
