BEGIN:VCALENDAR
VERSION:2.0
PRODID:-//https://www.petersgateinfantschool.co.uk///NONSGML kigkonsult.se iCalcreator 2.10.15//
METHOD:PUBLISH
BEGIN:VEVENT
UID:20260423T182456UTC-76447d5UKl@https://www.petersgateinfantschool.co.uk/
DTSTAMP:20260423T182456Z
DESCRIPTION: https://www.petersgateinfantschool.co.uk/school-calendar/event
 /1068-early-years-cohort-2026-grand-event-for-new-parents
DTSTART:20260603T170000Z
DTEND:20260603T180000Z
LOCATION:Petersgate Infant School (Green Ln\, Clanfield\, Waterlooville PO8
  0JU\, UK)
SUMMARY:Early Years (Cohort 2026) Grand Event for new parents
URL:https://www.petersgateinfantschool.co.uk/school-calendar/event/1068-ear
 ly-years-cohort-2026-grand-event-for-new-parents
END:VEVENT
END:VCALENDAR
