BEGIN:VCALENDAR
VERSION:2.0
PRODID:-//https://www.petersgateinfantschool.co.uk///NONSGML kigkonsult.se iCalcreator 2.10.15//
METHOD:PUBLISH
BEGIN:VEVENT
UID:20260421T102826UTC-2665WhiPjn@https://www.petersgateinfantschool.co.uk/
DTSTAMP:20260421T102826Z
DESCRIPTION: https://www.petersgateinfantschool.co.uk/school-calendar/event
 /1065-squirrel-class-assembly-14-00
DTSTART:20260514T140000Z
DTEND:20260514T143000Z
LOCATION:Petersgate Infant School (Green Ln\, Clanfield\, Waterlooville PO8
  0JU\, UK)
SUMMARY:Squirrel class Assembly 14:00
URL:https://www.petersgateinfantschool.co.uk/school-calendar/event/1065-squ
 irrel-class-assembly-14-00
END:VEVENT
END:VCALENDAR
