BEGIN:VCALENDAR
VERSION:2.0
PRODID:-//https://www.petersgateinfantschool.co.uk///NONSGML kigkonsult.se iCalcreator 2.10.15//
METHOD:PUBLISH
BEGIN:VEVENT
UID:20260419T193359UTC-3983j4Mmco@https://www.petersgateinfantschool.co.uk/
DTSTAMP:20260419T193359Z
DESCRIPTION: https://www.petersgateinfantschool.co.uk/school-calendar/event
 /1064-year-1-trip-to-butser-ancient-farm
DTSTART;VALUE=DATE:20260507
LOCATION:Butser Ancient Farm ()
SUMMARY:Year 1 Trip to Butser Ancient Farm
URL:https://www.petersgateinfantschool.co.uk/school-calendar/event/1064-yea
 r-1-trip-to-butser-ancient-farm
END:VEVENT
END:VCALENDAR
