BEGIN:VCALENDAR
VERSION:2.0
PRODID:-//https://www.petersgateinfantschool.co.uk///NONSGML kigkonsult.se iCalcreator 2.10.15//
METHOD:PUBLISH
BEGIN:VEVENT
UID:20260421T103157UTC-62212TRbjo@https://www.petersgateinfantschool.co.uk/
DTSTAMP:20260421T103157Z
DESCRIPTION: https://www.petersgateinfantschool.co.uk/school-calendar/event
 /1062-early-years-trip-to-wilson-atkinson-farm
DTSTART;VALUE=DATE:20260324
LOCATION:Wilson Atkinson Farm ()
SUMMARY:Early Years - Trip to Wilson Atkinson Farm
URL:https://www.petersgateinfantschool.co.uk/school-calendar/event/1062-ear
 ly-years-trip-to-wilson-atkinson-farm
END:VEVENT
END:VCALENDAR
