BEGIN:VCALENDAR
VERSION:2.0
PRODID:-//https://www.petersgateinfantschool.co.uk///NONSGML kigkonsult.se iCalcreator 2.10.15//
METHOD:PUBLISH
BEGIN:VEVENT
UID:20260423T084532UTC-1092SDUOl0@https://www.petersgateinfantschool.co.uk/
DTSTAMP:20260423T084532Z
DESCRIPTION: https://www.petersgateinfantschool.co.uk/school-calendar/event
 /1056-pops-easter-fayre-in-school-event
DTSTART;VALUE=DATE:20260327
LOCATION:Petersgate Infant School (Green Ln\, Clanfield\, Waterlooville PO8
  0JU\, UK)
SUMMARY:PoPS Easter Fayre (in school event)
URL:https://www.petersgateinfantschool.co.uk/school-calendar/event/1056-pop
 s-easter-fayre-in-school-event
END:VEVENT
END:VCALENDAR
