BEGIN:VCALENDAR
VERSION:2.0
PRODID:-//https://www.petersgateinfantschool.co.uk///NONSGML kigkonsult.se iCalcreator 2.10.15//
METHOD:PUBLISH
BEGIN:VEVENT
UID:20260421T085654UTC-040856xnIm@https://www.petersgateinfantschool.co.uk/
DTSTAMP:20260421T085654Z
DESCRIPTION: https://www.petersgateinfantschool.co.uk/school-calendar/event
 /1055-autism-awareness-day-wear-blue
DTSTART;VALUE=DATE:20260327
LOCATION:Petersgate Infant School (Green Ln\, Clanfield\, Waterlooville PO8
  0JU\, UK)
SUMMARY:Autism Awareness day - wear blue
URL:https://www.petersgateinfantschool.co.uk/school-calendar/event/1055-aut
 ism-awareness-day-wear-blue
END:VEVENT
END:VCALENDAR
