BEGIN:VCALENDAR
VERSION:2.0
PRODID:-//https://www.petersgateinfantschool.co.uk///NONSGML kigkonsult.se iCalcreator 2.10.15//
METHOD:PUBLISH
BEGIN:VEVENT
UID:20260419T194334UTC-9296tdFh2c@https://www.petersgateinfantschool.co.uk/
DTSTAMP:20260419T194334Z
DESCRIPTION: https://www.petersgateinfantschool.co.uk/school-calendar/event
 /1054-hedgehog-class-assembly
DTSTART:20260324T143000Z
DTEND:20260324T150000Z
LOCATION:Petersgate Infant School (Green Ln\, Clanfield\, Waterlooville PO8
  0JU\, UK)
SUMMARY:Hedgehog class Assembly
URL:https://www.petersgateinfantschool.co.uk/school-calendar/event/1054-hed
 gehog-class-assembly
END:VEVENT
END:VCALENDAR
