BEGIN:VCALENDAR
VERSION:2.0
PRODID:-//https://www.petersgateinfantschool.co.uk///NONSGML kigkonsult.se iCalcreator 2.10.15//
METHOD:PUBLISH
BEGIN:VEVENT
UID:20260423T163040UTC-66387BJPkd@https://www.petersgateinfantschool.co.uk/
DTSTAMP:20260423T163040Z
DESCRIPTION: https://www.petersgateinfantschool.co.uk/school-calendar/event
 /1053-fox-class-assembly
DTSTART:20260317T143000Z
DTEND:20260317T150000Z
LOCATION:Petersgate Infant School (Green Ln\, Clanfield\, Waterlooville PO8
  0JU\, UK)
SUMMARY:Fox class Assembly
URL:https://www.petersgateinfantschool.co.uk/school-calendar/event/1053-fox
 -class-assembly
END:VEVENT
END:VCALENDAR
