BEGIN:VCALENDAR
VERSION:2.0
PRODID:-//https://www.petersgateinfantschool.co.uk///NONSGML kigkonsult.se iCalcreator 2.10.15//
METHOD:PUBLISH
BEGIN:VEVENT
UID:20260423T182301UTC-8231i2f2u5@https://www.petersgateinfantschool.co.uk/
DTSTAMP:20260423T182301Z
DESCRIPTION: https://www.petersgateinfantschool.co.uk/school-calendar/event
 /1052-parent-forum-smartphone-free-childhood-update
DTSTART:20260323T140000Z
DTEND:20260323T151000Z
LOCATION:Petersgate Infant School (Green Ln\, Clanfield\, Waterlooville PO8
  0JU\, UK)
SUMMARY:Parent Forum - smartphone free childhood update
URL:https://www.petersgateinfantschool.co.uk/school-calendar/event/1052-par
 ent-forum-smartphone-free-childhood-update
END:VEVENT
END:VCALENDAR
