BEGIN:VCALENDAR
VERSION:2.0
PRODID:-//https://www.petersgateinfantschool.co.uk///NONSGML kigkonsult.se iCalcreator 2.10.15//
METHOD:PUBLISH
BEGIN:VEVENT
UID:20260423T165502UTC-1745dg4fSU@https://www.petersgateinfantschool.co.uk/
DTSTAMP:20260423T165502Z
DESCRIPTION: https://www.petersgateinfantschool.co.uk/school-calendar/event
 /1051-world-down-syndrome-day-observing-this-day-rather-than-red-nose-day-
 which-is-also-on-20th
DTSTART;VALUE=DATE:20260320
LOCATION:Petersgate Infant School (Green Ln\, Clanfield\, Waterlooville PO8
  0JU\, UK)
SUMMARY:World Down Syndrome Day (observing this day rather than Red Nose Da
 y which is also on 20th)
URL:https://www.petersgateinfantschool.co.uk/school-calendar/event/1051-wor
 ld-down-syndrome-day-observing-this-day-rather-than-red-nose-day-which-is-
 also-on-20th
END:VEVENT
END:VCALENDAR
