BEGIN:VCALENDAR
VERSION:2.0
PRODID:-//https://www.petersgateinfantschool.co.uk///NONSGML kigkonsult.se iCalcreator 2.10.15//
METHOD:PUBLISH
BEGIN:VEVENT
UID:20260423T165348UTC-0464hauZ6T@https://www.petersgateinfantschool.co.uk/
DTSTAMP:20260423T165348Z
DESCRIPTION: https://www.petersgateinfantschool.co.uk/school-calendar/event
 /1050-science-week-celebrate-the-children-being-scientists
DTSTART;VALUE=DATE:20260318
LOCATION:Petersgate Infant School (Green Ln\, Clanfield\, Waterlooville PO8
  0JU\, UK)
SUMMARY:Science Week - celebrate the children being scientists
URL:https://www.petersgateinfantschool.co.uk/school-calendar/event/1050-sci
 ence-week-celebrate-the-children-being-scientists
END:VEVENT
END:VCALENDAR
