BEGIN:VCALENDAR
VERSION:2.0
PRODID:-//https://www.petersgateinfantschool.co.uk///NONSGML kigkonsult.se iCalcreator 2.10.15//
METHOD:PUBLISH
BEGIN:VEVENT
UID:20260425T211416UTC-9342L6DUDz@https://www.petersgateinfantschool.co.uk/
DTSTAMP:20260425T211416Z
DESCRIPTION: https://www.petersgateinfantschool.co.uk/school-calendar/event
 /1043-notification-date-for-on-time-applicants-for-admission-2026-early-ye
 ars-year-3
DTSTART;VALUE=DATE:20260416
LOCATION:Petersgate Infant School (Green Ln\, Clanfield\, Waterlooville PO8
  0JU\, UK)
SUMMARY:Notification date for on-time applicants for admission 2026 Early Y
 ears & Year 3
URL:https://www.petersgateinfantschool.co.uk/school-calendar/event/1043-not
 ification-date-for-on-time-applicants-for-admission-2026-early-years-year-
 3
END:VEVENT
END:VCALENDAR
