BEGIN:VCALENDAR
VERSION:2.0
PRODID:-//https://www.petersgateinfantschool.co.uk///NONSGML kigkonsult.se iCalcreator 2.10.15//
METHOD:PUBLISH
BEGIN:VEVENT
UID:20260423T200826UTC-0414doVNIv@https://www.petersgateinfantschool.co.uk/
DTSTAMP:20260423T200826Z
DESCRIPTION: https://www.petersgateinfantschool.co.uk/school-calendar/event
 /1035-safer-internet-day-safe-tech-safe-choices
DTSTART;VALUE=DATE:20260210
LOCATION:Petersgate Infant School (Green Ln\, Clanfield\, Waterlooville PO8
  0JU\, UK)
SUMMARY:Safer Internet Day - 'Safe Tech Safe Choices'
URL:https://www.petersgateinfantschool.co.uk/school-calendar/event/1035-saf
 er-internet-day-safe-tech-safe-choices
END:VEVENT
END:VCALENDAR
