BEGIN:VCALENDAR
VERSION:2.0
PRODID:-//https://www.petersgateinfantschool.co.uk///NONSGML kigkonsult.se iCalcreator 2.10.15//
METHOD:PUBLISH
BEGIN:VEVENT
UID:20260421T103710UTC-18169skido@https://www.petersgateinfantschool.co.uk/
DTSTAMP:20260421T103710Z
DESCRIPTION: https://www.petersgateinfantschool.co.uk/school-calendar/event
 /1034-year-2-learn-alongside-your-child-event-details-to-follow
DTSTART:20260127T140000Z
DTEND:20260127T150000Z
LOCATION:Petersgate Infant School (Green Ln\, Clanfield\, Waterlooville PO8
  0JU\, UK)
SUMMARY:Year 2 - Learn alongside your child event *details to follow*
URL:https://www.petersgateinfantschool.co.uk/school-calendar/event/1034-yea
 r-2-learn-alongside-your-child-event-details-to-follow
END:VEVENT
END:VCALENDAR
