BEGIN:VCALENDAR
VERSION:2.0
PRODID:-//https://www.petersgateinfantschool.co.uk///NONSGML kigkonsult.se iCalcreator 2.10.15//
METHOD:PUBLISH
BEGIN:VEVENT
UID:20260423T202336UTC-7924ugANNV@https://www.petersgateinfantschool.co.uk/
DTSTAMP:20260423T202336Z
DESCRIPTION: https://www.petersgateinfantschool.co.uk/school-calendar/event
 /1031-world-cancer-day-wear-ribbon
DTSTART;VALUE=DATE:20260204
LOCATION:Petersgate Infant School (Green Ln\, Clanfield\, Waterlooville PO8
  0JU\, UK)
SUMMARY:World Cancer Day - wear ribbon
URL:https://www.petersgateinfantschool.co.uk/school-calendar/event/1031-wor
 ld-cancer-day-wear-ribbon
END:VEVENT
END:VCALENDAR
